BEGIN:VCALENDAR
VERSION:2.0
PRODID:-//peaceCENTER - ECPv4.6.13//NONSGML v1.0//EN
CALSCALE:GREGORIAN
METHOD:PUBLISH
X-WR-CALNAME:peaceCENTER
X-ORIGINAL-URL:http://www.sanantoniopeace.center
X-WR-CALDESC:Events for peaceCENTER
BEGIN:VEVENT
DTSTART;TZID=America/Chicago:20160213T110000
DTEND;TZID=America/Chicago:20160213T130000
DTSTAMP:20260425T120541
CREATED:20160209T043902Z
LAST-MODIFIED:20160209T043902Z
UID:6407-1455361200-1455368400@www.sanantoniopeace.center
SUMMARY:World Love for Dolphins Day Protest
DESCRIPTION: \nSea Shepherd Conservation Society is calling on volunteers\, supporters and concerned individuals around the world to join with  Sea Shepherd Cove Guardians as they show their love for dolphins and call for an end to the captive dolphin trade that funds the slaughter of cetaceans in Taiji’s infamous cove. \nOn Saturday\, February 13\, Sea Shepherd will teach the world about the link between captivity and the cove and encourage local businesses to stop supporting the hunt with peaceful World Love for Dolphins Day demonstrations across North America and overseas. Sea Shepherd chapters will host demos at local businesses that profit directly from the dolphin slaughter by trading on their surviving family members and stand in solidarity with Sea Shepherd’s volunteer Cove Guardians currently on the ground in Taiji. On Valentine’s weekend\, animal lovers across the globe will show the world that there is nothing to love about captivity. \nSea Shepherd Austin will hold a demonstration at Sea World San Antonio. Though SeaWorld has stated that it does not house cetaceans from drive fisheries\, it does play a large part in fueling the demand for captive dolphins and whales – the same demand that keeps the hunters in business.\n \n
URL:http://www.sanantoniopeace.center/event/world-love-for-dolphins-day-protest/
LOCATION:10500 Sea World Drive \, San Antonio\, TX\, 78251\, United States
ORGANIZER;CN="Sea%20Shepherd%20Conservation%20Society":MAILTO:austin@seashepherd.org
END:VEVENT
END:VCALENDAR