BEGIN:VCALENDAR
VERSION:2.0
PRODID:-//peaceCENTER - ECPv4.6.13//NONSGML v1.0//EN
CALSCALE:GREGORIAN
METHOD:PUBLISH
X-WR-CALNAME:peaceCENTER
X-ORIGINAL-URL:http://www.sanantoniopeace.center
X-WR-CALDESC:Events for peaceCENTER
BEGIN:VEVENT
DTSTART;TZID=America/Chicago:20151201T160000
DTEND;TZID=America/Chicago:20151201T203000
DTSTAMP:20260425T123617
CREATED:20151122T124753Z
LAST-MODIFIED:20151122T124753Z
UID:5155-1448985600-1449001800@www.sanantoniopeace.center
SUMMARY:World Aids Day @ Trinity U
DESCRIPTION: \n
URL:http://www.sanantoniopeace.center/event/world-aids-day-trinity-u/
LOCATION:One Trinity Place\, San Antonio\, TX\, United States
END:VEVENT
END:VCALENDAR