BEGIN:VCALENDAR
VERSION:2.0
PRODID:-//peaceCENTER - ECPv4.6.13//NONSGML v1.0//EN
CALSCALE:GREGORIAN
METHOD:PUBLISH
X-WR-CALNAME:peaceCENTER
X-ORIGINAL-URL:http://www.sanantoniopeace.center
X-WR-CALDESC:Events for peaceCENTER
BEGIN:VEVENT
DTSTART;TZID=America/Chicago:20161116T183000
DTEND;TZID=America/Chicago:20161116T200000
DTSTAMP:20260425T143440
CREATED:20161110T161324Z
LAST-MODIFIED:20161110T161324Z
UID:9061-1479321000-1479326400@www.sanantoniopeace.center
SUMMARY:Working with Nature to Conserve Land and Water
DESCRIPTION:Environmental consultant\, Bryan Hummel will talk about low impact development\, soil fertility/diversity\, rain gardens\, earthworks\, and natural resource conservation. Bryan has lots to say on these topics so if they are of interest to you\, you don’t want to miss hearing him speak!  \n
URL:http://www.sanantoniopeace.center/event/working-with-nature-to-conserve-land-and-water/
LOCATION:1802 N Main Ave\, San Antonio\, TX\, United States
CATEGORIES:Other
END:VEVENT
END:VCALENDAR