BEGIN:VCALENDAR
VERSION:2.0
PRODID:-//peaceCENTER - ECPv4.6.13//NONSGML v1.0//EN
CALSCALE:GREGORIAN
METHOD:PUBLISH
X-WR-CALNAME:peaceCENTER
X-ORIGINAL-URL:http://www.sanantoniopeace.center
X-WR-CALDESC:Events for peaceCENTER
BEGIN:VEVENT
DTSTART;TZID=America/Chicago:20180120T090000
DTEND;TZID=America/Chicago:20180120T110000
DTSTAMP:20260424T224559
CREATED:20180118T020503Z
LAST-MODIFIED:20180118T020503Z
UID:11952-1516438800-1516446000@www.sanantoniopeace.center
SUMMARY:Women's Rally San Antonio
DESCRIPTION: \nAll Women\, and those who support them\, are invited to come out and celebrate Diversity\, and help build Transformative Social Change in our Community. \nWe will be promoting Women Empowerment\, Education on Women’s Issues\, ways to get involved in our Community\, and Voters Registration. And MUCH MORE!! \nIf you have a Pussy Hat\, dust it off and bring it with you. This is also the time to be EXTRA CREATIVE and bring your posters and rally signs. WE ARE EXCITED TO SEE THEM! \nWe look forward to seeing you at our San Antonio Women’s Rally! Come out and join/support our Community! \n
URL:http://www.sanantoniopeace.center/event/womens-rally-san-antonio/
LOCATION:San Antonio\, TX\, United States
CATEGORIES:Other
END:VEVENT
END:VCALENDAR