BEGIN:VCALENDAR
VERSION:2.0
PRODID:-//peaceCENTER - ECPv4.6.13//NONSGML v1.0//EN
CALSCALE:GREGORIAN
METHOD:PUBLISH
X-WR-CALNAME:peaceCENTER
X-ORIGINAL-URL:http://www.sanantoniopeace.center
X-WR-CALDESC:Events for peaceCENTER
BEGIN:VEVENT
DTSTART;TZID=America/Chicago:20170121T120000
DTEND;TZID=America/Chicago:20170121T180000
DTSTAMP:20260425T104515
CREATED:20161114T194612Z
LAST-MODIFIED:20170122T005802Z
UID:9101-1485000000-1485021600@www.sanantoniopeace.center
SUMMARY:Women's March on Austin
DESCRIPTION:PHOTO FROM THE TEXAS OBSERVER: estimated at close to 50\,000! \nPhoto: Texas Observer\, 21 January\, 2017. WOW! WOW! WOW! \nThis is a sister event to the Women’s March on Washington taking place in D.C. It will be held here in Austin for those in the state that cannot\, for whatever reason\, make it to D.C. \nMarch from (Location to be determined) to the Capitol of Texas to show our strength\, power and courage in a peaceful march. Daughters and granddaughters welcome as well as like-minded men\, sons\, grandsons. Invite your friends\, family and co-workers. Spread the word! Let the world know we women stand with all women! No woman is free unless all women are free. \nWe’ve got a moment here. Let’s not let it go to waste! We’re not a protest against anything or anyone. We’re marching FOR social justice\, FOR kindness\, FOR equality of opportunity\, FOR love. \nThis is an INCLUSIVE march\, and EVERYONE who supports women’s rights are welcome:\n– Women & Girls & Femmes & GNC\n– Men & Boys\n– Families\n– People of Color\n– Immigrants\n– LGBTQ Community\n– People with Disabilities\n– Climate Change Advocates\n– ALL religious communities\n– Anyone else who wants to come out in support! \n
URL:http://www.sanantoniopeace.center/event/womens-march-on-austin/
LOCATION:1100 Congress Ave.\, Austin\, TX\, 78701\, United States
CATEGORIES:Other
END:VEVENT
END:VCALENDAR