BEGIN:VCALENDAR
VERSION:2.0
PRODID:-//peaceCENTER - ECPv4.6.13//NONSGML v1.0//EN
CALSCALE:GREGORIAN
METHOD:PUBLISH
X-WR-CALNAME:peaceCENTER
X-ORIGINAL-URL:http://www.sanantoniopeace.center
X-WR-CALDESC:Events for peaceCENTER
BEGIN:VEVENT
DTSTART;TZID=America/Chicago:20150130T173000
DTEND;TZID=America/Chicago:20150130T193000
DTSTAMP:20260425T172349
CREATED:20141226T193358Z
LAST-MODIFIED:20141226T193358Z
UID:1852-1422639000-1422646200@www.sanantoniopeace.center
SUMMARY:Women’s Global Connection: Reach Out Africa
DESCRIPTION:\n\nReach Out Africa details the inspirational stories of successful collaborative partnerships — partnerships that led to projects improving the health and well-being of numerous African communities. Undertaken by Women’s Global Connection\, a nonprofit based in San Antonio\, in partnership with the University of the Incarnate Word\, these projects have spanned more than a decade and resulted in community empowerment\, local ownership\, sustainable development\, and cross-cultural engagement. In the process\, the lives of communities and individuals throughout Tanzania and Zambia have been transformed. \n\n\n
URL:http://www.sanantoniopeace.center/event/womens-global-connection-reach-out-africa/
LOCATION:306 Pearl Parkway ste #106\, San Antonio\, TX\, United States
END:VEVENT
END:VCALENDAR