BEGIN:VCALENDAR
VERSION:2.0
PRODID:-//peaceCENTER - ECPv4.6.13//NONSGML v1.0//EN
CALSCALE:GREGORIAN
METHOD:PUBLISH
X-WR-CALNAME:peaceCENTER
X-ORIGINAL-URL:http://www.sanantoniopeace.center
X-WR-CALDESC:Events for peaceCENTER
BEGIN:VEVENT
DTSTART;TZID=America/Chicago:20151124T183000
DTEND;TZID=America/Chicago:20151124T210000
DTSTAMP:20260425T105933
CREATED:20151123T144047Z
LAST-MODIFIED:20151123T144047Z
UID:5184-1448389800-1448398800@www.sanantoniopeace.center
SUMMARY:Women\, Gender & Climate Change
DESCRIPTION:The Road to Paris and Beyond \nDear community leader and ally\, \nSouthwest Workers’ Union and Fuerza Unida are traveling to Paris in December of 2015 and will be participating both nationally and internationally by convening and aligning with many coalitions in the global climate change movement. Our local leadership has opened the opportunity to deepen our narratives in the struggle of climate crisis to develop shared critical thinking and strategy base building in grassroots movements. As a frontline community we understand the urgency for a just transition. In Paris\, we will demand a system change from capitalist and extractive economy to alternative systems and autonomy for equity and equality. During our stay in Paris\, we will be together with our It Takes Roots To Weather The Storm delegation along with Grassroots Global Justice\, Climate Justice Alliance\, and the Indigenous Environmental Network with support of other support teams as well. \nWe have been visible in the struggle of labor\, environment\, gender\, and youth injustices that are perpetual in our communities. Our visions manifest the resilience in the intersectionalities of our multicultural and intergenerational spaces for community empowerment opening us the platform to connect with local\, national\, and international alliances to transform the bridges of culture\, critical thinking and direct action. \nWe will be hosting a panel discussion on the local experiences of race and gender to the larger struggle in climate change. As you know\, SWU and Fuerza Unida have been presente in the current campaign opposing water rate-hikes\, a new rate structure and the Vista Ridge pipeline facing consequences of perpetual economic disparity and environmental impacts\, which are subjects of negotiations of governances targeting our human rights\, bodies and climate resiliency. Because we have seen the alignment of your work with our vision as an organization in a community for opportunities for empowerment\, transformation\, and self-determination in San Antonio we invite you to speak at our space. Our objective is to share and identify our local experiences to uplift them at the global summit to express our demand for a system change at the United Nations Framework Convention on Climate Change Conference of Parties 21 in Paris. \n
URL:http://www.sanantoniopeace.center/event/women-gender-climate-change/
LOCATION:710 New Laredo Hwy\, San Antonio\, TX\, 78211\, United States
END:VEVENT
END:VCALENDAR