BEGIN:VCALENDAR
VERSION:2.0
PRODID:-//peaceCENTER - ECPv4.6.13//NONSGML v1.0//EN
CALSCALE:GREGORIAN
METHOD:PUBLISH
X-WR-CALNAME:peaceCENTER
X-ORIGINAL-URL:http://www.sanantoniopeace.center
X-WR-CALDESC:Events for peaceCENTER
BEGIN:VEVENT
DTSTART;TZID=America/Chicago:20160521T120000
DTEND;TZID=America/Chicago:20160521T140000
DTSTAMP:20260425T195652
CREATED:20160515T130000Z
LAST-MODIFIED:20160515T130120Z
UID:6972-1463832000-1463839200@www.sanantoniopeace.center
SUMMARY:Woe to the Women\, The Bible Tells Me So…
DESCRIPTION:Join noted author and rambunctious activist Annie Laurie Gaylor\,  a co-founder of – and\, with her husband Dan Barker\, a current co-president of – the Freedom From Religion Foundation. \n
URL:http://www.sanantoniopeace.center/event/woe-to-the-women-the-bible-tells-me-so/
LOCATION:7150 W. Interstate 10  \, San Antonio\, TX\, 78213\, United States
CATEGORIES:Other
END:VEVENT
END:VCALENDAR