BEGIN:VCALENDAR
VERSION:2.0
PRODID:-//peaceCENTER - ECPv4.6.13//NONSGML v1.0//EN
CALSCALE:GREGORIAN
METHOD:PUBLISH
X-WR-CALNAME:peaceCENTER
X-ORIGINAL-URL:http://www.sanantoniopeace.center
X-WR-CALDESC:Events for peaceCENTER
BEGIN:VEVENT
DTSTART;TZID=America/Chicago:20161107T123000
DTEND;TZID=America/Chicago:20161107T134500
DTSTAMP:20260425T114941
CREATED:20161019T134121Z
LAST-MODIFIED:20161019T134121Z
UID:8901-1478521800-1478526300@www.sanantoniopeace.center
SUMMARY:Why the Largest Native American Protest in U.S. History Against the Dakota Access Pipeline in Standing Rock is Important to Us Here in San Antonio
DESCRIPTION:In the Student Center \nUpdate and perspective by Juan Mancías\, Tribal Chair of the Esto’k Gna/Carrizo-Comecrudo Tribe of Texas. \n
URL:http://www.sanantoniopeace.center/event/why-the-largest-native-american-protest-in-u-s-history-against-the-dakota-access-pipeline-in-standing-rock-is-important-to-us-here-in-san-antonio/
LOCATION:1400 W. Villaret Blvd\, San Antonio\, TX\, 78224\, United States
CATEGORIES:Other
END:VEVENT
END:VCALENDAR