BEGIN:VCALENDAR
VERSION:2.0
PRODID:-//peaceCENTER - ECPv4.6.13//NONSGML v1.0//EN
CALSCALE:GREGORIAN
METHOD:PUBLISH
X-WR-CALNAME:peaceCENTER
X-ORIGINAL-URL:http://www.sanantoniopeace.center
X-WR-CALDESC:Events for peaceCENTER
BEGIN:VEVENT
DTSTART;TZID=America/Chicago:20141022T190000
DTEND;TZID=America/Chicago:20141022T203000
DTSTAMP:20260425T190248
CREATED:20141019T024817Z
LAST-MODIFIED:20141019T024817Z
UID:366-1414004400-1414009800@www.sanantoniopeace.center
SUMMARY:Who Is Isis? @ Trinity
DESCRIPTION:Who is ISIS? How are they perceived in the Muslim World? To what extent to they pose a threat to the United States? Join us for a faculty and student-lead discussion that seeks to go beyond the headlines. Free and open to the public. \nPanelists will include:\nDr. Sussan Siavoshi (Political Science)\nDr. Tahir Naqvi (Anthropology)\nDr. Habiba Noor (Religion) \nAnd students: Andrew Dubois\, Emily Bates\, Lauren Schroeter\, Adam Lallani \nThe event will take place in Northrop 040 [map of Trinity Campus] \n
URL:http://www.sanantoniopeace.center/event/who-is-isis-trinity/
LOCATION:One Trinity Place\, San Antonio\, TX\, 78212\, United States
END:VEVENT
END:VCALENDAR