BEGIN:VCALENDAR
VERSION:2.0
PRODID:-//peaceCENTER - ECPv4.6.13//NONSGML v1.0//EN
CALSCALE:GREGORIAN
METHOD:PUBLISH
X-WR-CALNAME:peaceCENTER
X-ORIGINAL-URL:http://www.sanantoniopeace.center
X-WR-CALDESC:Events for peaceCENTER
BEGIN:VEVENT
DTSTART;TZID=America/Chicago:20161211T140000
DTEND;TZID=America/Chicago:20161211T160000
DTSTAMP:20260425T111921
CREATED:20161123T220311Z
LAST-MODIFIED:20161123T220311Z
UID:9147-1481464800-1481472000@www.sanantoniopeace.center
SUMMARY:What's Next for DREAMERs?
DESCRIPTION: \n
URL:http://www.sanantoniopeace.center/event/whats-next-for-dreamers/
LOCATION:501 W. César E. Chávez Blvd.\, San Antonio\, TX\, 78207\, United States
CATEGORIES:Other
END:VEVENT
END:VCALENDAR