BEGIN:VCALENDAR
VERSION:2.0
PRODID:-//peaceCENTER - ECPv4.6.13//NONSGML v1.0//EN
CALSCALE:GREGORIAN
METHOD:PUBLISH
X-WR-CALNAME:peaceCENTER
X-ORIGINAL-URL:http://www.sanantoniopeace.center
X-WR-CALDESC:Events for peaceCENTER
BEGIN:VEVENT
DTSTART;TZID=America/Chicago:20160126T190000
DTEND;TZID=America/Chicago:20160126T203000
DTSTAMP:20260425T121427
CREATED:20160124T175220Z
LAST-MODIFIED:20160124T175220Z
UID:6210-1453834800-1453840200@www.sanantoniopeace.center
SUMMARY:What Every Gardener Should Know about Soil
DESCRIPTION:Native Plant Society of Texas San Antonio Chapter January Meeting\nDavid Vaughan will share his considerable knowledge about the microscopic life teeming in our soils.  \nDavid has a Bachelor of Science in Forestry from Stephen F. Austin University and a Masters in Natural Resources Development from Texas A&M University. He’s a Certified Arborist and is also certified to treat Texas oak wilt. He’s member of the International Society of Arboriculture and the Tree Care Industry Association (TCIA).\nIn June 1995\, bringing with him twenty years of experience with trees\, David joined Etter Tree Care\, which was founded by Ed Etter in 1976.  \n
URL:http://www.sanantoniopeace.center/event/what-every-gardener-should-know-about-soil/
LOCATION:2809 Broadway\, San Antonio\, TX\, 78209\, United States
END:VEVENT
END:VCALENDAR