BEGIN:VCALENDAR
VERSION:2.0
PRODID:-//peaceCENTER - ECPv4.6.13//NONSGML v1.0//EN
CALSCALE:GREGORIAN
METHOD:PUBLISH
X-WR-CALNAME:peaceCENTER
X-ORIGINAL-URL:http://www.sanantoniopeace.center
X-WR-CALDESC:Events for peaceCENTER
BEGIN:VEVENT
DTSTART;TZID=America/Chicago:20151212T090000
DTEND;TZID=America/Chicago:20151212T220000
DTSTAMP:20260425T125622
CREATED:20151121T232324Z
LAST-MODIFIED:20151121T232324Z
UID:5152-1449910800-1449957600@www.sanantoniopeace.center
SUMMARY:Wear Orange Walk - San Antonio Moms Demand Action for Gun Sense in America
DESCRIPTION:Join supporters of Moms Demand Action for a Wear Orange Walk. We will walk down the RiverWalk to commemorate the third anniversary of the Sandy Hook tragedy and honor all victims and survivors of gun violence. Speeches by local gun violence survivors and community leaders to follow.  \n\nTogether\, we acknowledge that one of the best ways we can honor the victims and survivors of gun violence is to keep moving forward\, keep making progress\, being visible\, and never giving up.\nWe’ll meet in the grassy area in front of Cured Restaurant in the Pearl\, walk down the Riverwalk to SAMA and return to The Pearl. Don’t forget to wear orange – the color of the gun violence prevention movement!\nRSVP here: http://act.everytown.org/event/2015-orange-walk_attend/1897 \n
URL:http://www.sanantoniopeace.center/event/wear-orange-walk-san-antonio-moms-demand-action-for-gun-sense-in-america/
LOCATION:306 Pearl Parkway\, San Antonio\, TX\, United States
END:VEVENT
END:VCALENDAR