BEGIN:VCALENDAR
VERSION:2.0
PRODID:-//peaceCENTER - ECPv4.6.13//NONSGML v1.0//EN
CALSCALE:GREGORIAN
METHOD:PUBLISH
X-WR-CALNAME:peaceCENTER
X-ORIGINAL-URL:http://www.sanantoniopeace.center
X-WR-CALDESC:Events for peaceCENTER
BEGIN:VEVENT
DTSTART;TZID=America/Chicago:20170105T183000
DTEND;TZID=America/Chicago:20170105T203000
DTSTAMP:20260425T124212
CREATED:20161205T155626Z
LAST-MODIFIED:20161211T224226Z
UID:9238-1483641000-1483648200@www.sanantoniopeace.center
SUMMARY:We The People: a Conversation of the Heart
DESCRIPTION: \n“The politics of our time is the ‘politics of the broken-hearted’ – an expression that will not be found in the analytical vocabulary of political science or in the strategic rhetoric of political organizing. Instead\, it is an expression for the language of human wholeness. There are some human experiences that only the heart can comprehend and only heart-talk can convey.”\nParker Palmer\, \nHealing the Heart of Democracy: The Courage to Create a Politics Worthy of the Human Spirit \nhealing. courage. spirit.\n W E    T H E    P E O P L E\n a conversation of the heart…\nWith so many needs and concerns in today’s world\, where and how do we discern to invest our hearts and lives and time?\nWhat are the options and opportunities in our homes and neighborhoods\, in San Antonio and our country?\nWhat one step will carry Me and We forward into being The People in this time and in this place? \nJoin Compassionate San Antonio and the interfaith San Antonio peaceCENTER in this revelatory conversation at the turn of the year. Bring your voice\, your spirit\, your commitment\, your discernment\, your community\, your heart! \n“We need a revelation in the heart rather than a confrontation or a call-to-arms or a defense.”\nLeonard Cohen \n \n
URL:http://www.sanantoniopeace.center/event/we-the-people-a-community-conversation/
LOCATION:285 Oblate Drive\, San Antonio\, TX\, 78216\, United States
CATEGORIES:peaceCENTER
ORGANIZER;CN="peaceCENTER":MAILTO:info@sacompassionnet.org
END:VEVENT
END:VCALENDAR