BEGIN:VCALENDAR
VERSION:2.0
PRODID:-//peaceCENTER - ECPv4.6.13//NONSGML v1.0//EN
CALSCALE:GREGORIAN
METHOD:PUBLISH
X-WR-CALNAME:peaceCENTER
X-ORIGINAL-URL:http://www.sanantoniopeace.center
X-WR-CALDESC:Events for peaceCENTER
BEGIN:VEVENT
DTSTART;TZID=America/Chicago:20141023T140000
DTEND;TZID=America/Chicago:20141023T160000
DTSTAMP:20260425T163329
CREATED:20141015T010552Z
LAST-MODIFIED:20141015T010552Z
UID:293-1414072800-1414080000@www.sanantoniopeace.center
SUMMARY:We all have workplace rights  -- Todos tenemos derechos en el trabajo
DESCRIPTION:Lost Wages? Denied Back Pay? No Overtime? Working Below Minimum Wage?\nAll are illegal under the Fair Labor Standards Act \nEllen Glover\, community outreach specialist with the U. S. Department of Labor\, Wage and Hour Division\, will give a presentation on how the Labor Department serves San Antonio’s low wage workers to recover back wages and how you can get involved. \nWhen: Oct. 23\, 2014 at 2 pm\nWhere: Bethany Congregational United Church of Christ\, 500 Pilgrim\, San Antonio\nFor More Information: Call Rev. Gerry Metzger\, 210-342-6034 \nThe U.S. Department of Labor’s Wage and Hour Division (WHD) is responsible for administering and enforcing some of the nation’;s most important worker protection laws. WHD is committed to ensuring that workers in this country are paid properly and for all the hours they work\, regardless of immigration status. \nThey work on the community level with employers\, advocacy groups\, churches and state agencies to educate people about labor standards and encourage them to support vulnerable workers. We have Spanish speakers on staff and can take complaints from workers. \n
URL:http://www.sanantoniopeace.center/event/we-all-have-workplace-rights-todos-tenemos-derechos-en-el-trabajo/
LOCATION: 500 Pilgrim\, San Antonio\, TX\, United States
END:VEVENT
END:VCALENDAR