BEGIN:VCALENDAR
VERSION:2.0
PRODID:-//peaceCENTER - ECPv4.6.13//NONSGML v1.0//EN
CALSCALE:GREGORIAN
METHOD:PUBLISH
X-WR-CALNAME:peaceCENTER
X-ORIGINAL-URL:http://www.sanantoniopeace.center
X-WR-CALDESC:Events for peaceCENTER
BEGIN:VEVENT
DTSTART;TZID=America/Chicago:20150516T090000
DTEND;TZID=America/Chicago:20150516T230000
DTSTAMP:20260425T030723
CREATED:20150511T202031Z
LAST-MODIFIED:20150511T202031Z
UID:3014-1431766800-1431817200@www.sanantoniopeace.center
SUMMARY:Water Conservation: Rain Gardens & Bioswales
DESCRIPTION:San Antonio River Authority speakers show how to make a rain garden.  They discuss the benefits of rainfall catchment and bioswales.  Kid friendly activity included. \nMeet in the classroom of the Phil Hardberger Park Urban Ecology Center (8400 NW Military Hwy.)  The program is presented by the Alamo Area Texas Master Naturalists\, the Sierra Club\, the Phil Hardberger Park Conservancy and San Antonio Parks & Recreation.  It is free and no registration is required. A donation to the PHP Conservancy of $3/ person OR $5/ family is suggested. \nFor more information\, call 210-492-7472 or e-mail admin@philhardbergerpark.org. \n
URL:http://www.sanantoniopeace.center/event/water-conservation-rain-gardens-bioswales/
LOCATION:8400 NW Military Hwy\, San Antonio\, TX\, United States
END:VEVENT
END:VCALENDAR