BEGIN:VCALENDAR
VERSION:2.0
PRODID:-//peaceCENTER - ECPv4.6.13//NONSGML v1.0//EN
CALSCALE:GREGORIAN
METHOD:PUBLISH
X-WR-CALNAME:peaceCENTER
X-ORIGINAL-URL:http://www.sanantoniopeace.center
X-WR-CALDESC:Events for peaceCENTER
BEGIN:VEVENT
DTSTART;TZID=America/Chicago:20160218T183000
DTEND;TZID=America/Chicago:20160218T200000
DTSTAMP:20260425T103452
CREATED:20160211T213910Z
LAST-MODIFIED:20160220T120659Z
UID:6421-1455820200-1455825600@www.sanantoniopeace.center
SUMMARY:War is a Racket (**IN AUSTIN**)
DESCRIPTION: \n
URL:http://www.sanantoniopeace.center/event/war-is-a-racket-in-austin/
LOCATION:3701 E. Martin Luther King Dr\, Austin\, TX\, 78721\, United States
CATEGORIES:Other
END:VEVENT
END:VCALENDAR