BEGIN:VCALENDAR
VERSION:2.0
PRODID:-//peaceCENTER - ECPv4.6.13//NONSGML v1.0//EN
CALSCALE:GREGORIAN
METHOD:PUBLISH
X-WR-CALNAME:peaceCENTER
X-ORIGINAL-URL:http://www.sanantoniopeace.center
X-WR-CALDESC:Events for peaceCENTER
BEGIN:VEVENT
DTSTART;TZID=America/Chicago:20160426T183000
DTEND;TZID=America/Chicago:20160426T193000
DTSTAMP:20260425T152219
CREATED:20160422T184807Z
LAST-MODIFIED:20160422T184807Z
UID:6832-1461695400-1461699000@www.sanantoniopeace.center
SUMMARY:Voices of the West Distinguished Lecture Series: Michael Horse
DESCRIPTION:Michael Horse—actor\, artist\, and Board Member of American Indian Film Institute—speaks about the evolving roles and representations of Native Americans in popular media. This lecture is held in conjunction with the Native Film Series\, which he curated. \nJoin us as we illuminate unique perspectives on the history and future of the American West. All lectures held at the Jack Guenther Pavilion on the Briscoe Campus. \n
URL:http://www.sanantoniopeace.center/event/voices-of-the-west-distinguished-lecture-series-michael-horse/
LOCATION:210 W. Market\, San Antonio\, TX\, 78205\, United States
END:VEVENT
END:VCALENDAR