BEGIN:VCALENDAR
VERSION:2.0
PRODID:-//peaceCENTER - ECPv4.6.13//NONSGML v1.0//EN
CALSCALE:GREGORIAN
METHOD:PUBLISH
X-WR-CALNAME:peaceCENTER
X-ORIGINAL-URL:http://www.sanantoniopeace.center
X-WR-CALDESC:Events for peaceCENTER
BEGIN:VEVENT
DTSTART;TZID=America/Chicago:20171220T183000
DTEND;TZID=America/Chicago:20171220T200000
DTSTAMP:20260425T030733
CREATED:20171218T212101Z
LAST-MODIFIED:20171218T212101Z
UID:11614-1513794600-1513800000@www.sanantoniopeace.center
SUMMARY:Vigil In Support of Jailed Dreamers and a Clean Dream Act
DESCRIPTION:Arrive at 6:30 pm at Main Plaza for a vigil in solidarity with the seven DREAMers arrested at a sit-in at Schumer’s office\, they are currently in jail on a hunger strike and at risk of deportation. Bring candles and posters in support of a Clean Dream Act. Come ready to chant and demand that Joaquin Castro and the Democrats reject any budget deal that does not include a Clean Dream Act\, we demand they take action and actively work with dreamers to pass a Clean Dream Act. \nOn Friday\, 7 DACA recipients were arrested in Congressional offices and have been in custody since Friday night. They are calling on all of us to host solidarity vigils this week to uplift their stories and their demand for a clean Dream Act. Every day the Dream Act does not pass\, undocumented youth are at risk of detention and deportation. Thousands have already lost their work permits\, jobs\, and sense of safety. We need as many people as possible to show their support and vigils are a great way to mobilize a lot of people to show this broad public support. \n#NoDreamNoDeal #CleanDreamActNow \n \n
URL:http://www.sanantoniopeace.center/event/vigil-in-support-of-jailed-dreamers-and-a-clean-dream-act/
LOCATION:San Antonio\, TX\, United States
CATEGORIES:Other
END:VEVENT
END:VCALENDAR