BEGIN:VCALENDAR
VERSION:2.0
PRODID:-//peaceCENTER - ECPv4.6.13//NONSGML v1.0//EN
CALSCALE:GREGORIAN
METHOD:PUBLISH
X-WR-CALNAME:peaceCENTER
X-ORIGINAL-URL:http://www.sanantoniopeace.center
X-WR-CALDESC:Events for peaceCENTER
BEGIN:VEVENT
DTSTART;TZID=America/Chicago:20150216T115000
DTEND;TZID=America/Chicago:20150216T122000
DTSTAMP:20260425T111428
CREATED:20150216T025041Z
LAST-MODIFIED:20150216T025041Z
UID:2419-1424087400-1424089200@www.sanantoniopeace.center
SUMMARY:UTSA Vigil & Moment of Silence for #OurThreeWinners
DESCRIPTION: \n
URL:http://www.sanantoniopeace.center/event/utsa-vigil-moment-of-silence-for-ourthreewinners/
LOCATION:One UTSA Circle\, San Antonio\, TX\, 78249\, United States
END:VEVENT
END:VCALENDAR