BEGIN:VCALENDAR
VERSION:2.0
PRODID:-//peaceCENTER - ECPv4.6.13//NONSGML v1.0//EN
CALSCALE:GREGORIAN
METHOD:PUBLISH
X-WR-CALNAME:peaceCENTER
X-ORIGINAL-URL:http://www.sanantoniopeace.center
X-WR-CALDESC:Events for peaceCENTER
BEGIN:VEVENT
DTSTART;TZID=America/Chicago:20151218T180000
DTEND;TZID=America/Chicago:20151218T200000
DTSTAMP:20260425T125116
CREATED:20151211T234941Z
LAST-MODIFIED:20151211T234941Z
UID:5704-1450461600-1450468800@www.sanantoniopeace.center
SUMMARY:University Sin Fronteras & SWU‎ : How far have we come? Seminar on the Voting Rights act of 1965
DESCRIPTION:The Voting Rights Act was a means to overcome a legal barrier that prevented communities of color from voting but 50 years after it was signed into law\, efforts are still being made to prevent these same communities from participating and even being counted. \nFrom gerrymandering to new I.D. laws\, how far have we come to be active participants in the democratic process? \nJoin us\nMonday January 18\n6pm-8pm\n1416 e. Commerce st.\nSATX 78205 \nFor more info contact\nJoaquin Muerte\nUNSIF campus coordinator\njoaquin@swunion.org\n210-413-8978 \n
URL:http://www.sanantoniopeace.center/event/university-sin-fronteras-swu%e2%80%8e-how-far-have-we-come-seminar-on-the-voting-rights-act-of-1965/
LOCATION:1416  E Commerce st.\, San Antonio\, TX\, 78205\, United States
END:VEVENT
END:VCALENDAR