BEGIN:VCALENDAR
VERSION:2.0
PRODID:-//peaceCENTER - ECPv4.6.13//NONSGML v1.0//EN
CALSCALE:GREGORIAN
METHOD:PUBLISH
X-WR-CALNAME:peaceCENTER
X-ORIGINAL-URL:http://www.sanantoniopeace.center
X-WR-CALDESC:Events for peaceCENTER
BEGIN:VEVENT
DTSTART;TZID=America/Chicago:20160709T110000
DTEND;TZID=America/Chicago:20160709T130000
DTSTAMP:20260425T214737
CREATED:20160707T164841Z
LAST-MODIFIED:20160707T164841Z
UID:7771-1468062000-1468069200@www.sanantoniopeace.center
SUMMARY:Unify\, Pray\, Take Action #Altonsterling
DESCRIPTION: \nIn this sensitive time we want to take the time to pay our respects to Alton Sterling and others who have lost their lives at the hands of a corrupt system. Alton is a man before he is a seed for a movement. We intend to pay our respects to the man he is. \nWe will also be raising the conversation of what this means for us in a bigger picture. What this means for San Antonio\, both historically and what this means for our future. We will be beginning the conversation on what needs to happen moving forward. \nThere will be water and ice provided as it may get hot. Please keep in mind there may be a lot of people\, so dress accordingly. \nCome sensitive but also come hopeful. During this time a lot of us are angry\, confused\, hurt\, tired\, and fed up. Understand though that we are still a “we” factor. There is power in collective efforts. \nThere is no problem we can not bear\, or can not solve together. \n
URL:http://www.sanantoniopeace.center/event/unify-pray-take-action-altonsterling/
LOCATION:211 E. Travis\, San Antonio\, TX\, 78205\, United States
CATEGORIES:Other
END:VEVENT
END:VCALENDAR