BEGIN:VCALENDAR
VERSION:2.0
PRODID:-//peaceCENTER - ECPv4.6.13//NONSGML v1.0//EN
CALSCALE:GREGORIAN
METHOD:PUBLISH
X-WR-CALNAME:peaceCENTER
X-ORIGINAL-URL:http://www.sanantoniopeace.center
X-WR-CALDESC:Events for peaceCENTER
BEGIN:VEVENT
DTSTART;TZID=America/Chicago:20160612T190000
DTEND;TZID=America/Chicago:20160612T213000
DTSTAMP:20260425T180948
CREATED:20160528T215337Z
LAST-MODIFIED:20160528T215337Z
UID:7102-1465758000-1465767000@www.sanantoniopeace.center
SUMMARY:Understanding Ramadan\, Sharing Dinner
DESCRIPTION:Explore the Muslim holy month of Ramadan with a lecture at 7 pm and break the fast at sundown with a Ramadan Dinner at 8:30. You will learn about the history of Ramadan\, fasting in Abrahamic faiths\, and a traditional Ramadan Iftar dinner. During Ramadan\, Muslims fast from dawn to dusk each day. Fasting is seen as a way to cleanse the soul and have empathy for those in the world who are hungry and less fortunate. \npreregistration is required: 210-732-9927 \nAbout the Instructor: Sarwat Husain\, a national public speaker for Islam and Muslims\, is the co-founder and co-chair of the American Muslim Democratic Caucus.  Formerly\, Sarwat served eight years as the Vice Chair of CAIR- National Board of Directors. She is an award winning advocate for human rights and education for cross-cultural understanding who is also involved in inter-religious dialogue. She is the recipient of the Peace Maker of the Year 2013\, Pax Christi USA (National Catholic Organization)\, Headliner Award for the Association for Women in Communications\, and a Distinguished Alumni award of University of Incarnate Word in 2012. Her guest columns can be found in the SA Express News. \n
URL:http://www.sanantoniopeace.center/event/understanding-ramadan-sharing-dinner/
LOCATION:7271 Wurzbach Road\, San Antonio\, TX\, 78240\, United States
CATEGORIES:Other
END:VEVENT
END:VCALENDAR