BEGIN:VCALENDAR
VERSION:2.0
PRODID:-//peaceCENTER - ECPv4.6.13//NONSGML v1.0//EN
CALSCALE:GREGORIAN
METHOD:PUBLISH
X-WR-CALNAME:peaceCENTER
X-ORIGINAL-URL:http://www.sanantoniopeace.center
X-WR-CALDESC:Events for peaceCENTER
BEGIN:VEVENT
DTSTART;TZID=America/Chicago:20150210T180000
DTEND;TZID=America/Chicago:20150210T190000
DTSTAMP:20260425T124220
CREATED:20150203T164715Z
LAST-MODIFIED:20150203T164715Z
UID:2271-1423591200-1423594800@www.sanantoniopeace.center
SUMMARY:UIW Honors Program presents A Call for Social Justice
DESCRIPTION:Several UIW students traveled to the Rio Grande Valley in October 2014 to learn about the economic and social issues in this impoverished area of the country. They will report and reflect on the people and organizations they witnessed during their three-day trip\, then add their reflections on the legal and other constraints that are affecting the development of this region. Presentation attendees will find out how they can support these local groups and impact legislation to help residents of the border area help themselves. Sponsored by the UIW Honors Program. \nThe event is free and open to the public. For more information contact\, Honors Program Director\, Jean Loden at (210) 832-3211 or by email at jloden@uiwtx.edu. \n
URL:http://www.sanantoniopeace.center/event/uiw-honors-program-presents-a-call-for-social-justice/
LOCATION:4301 Broadway\, San Antonio\, TX\, 78209\, United States
END:VEVENT
END:VCALENDAR