BEGIN:VCALENDAR
VERSION:2.0
PRODID:-//peaceCENTER - ECPv4.6.13//NONSGML v1.0//EN
CALSCALE:GREGORIAN
METHOD:PUBLISH
X-WR-CALNAME:peaceCENTER
X-ORIGINAL-URL:http://www.sanantoniopeace.center
X-WR-CALDESC:Events for peaceCENTER
BEGIN:VEVENT
DTSTART;TZID=America/Chicago:20161119T200000
DTEND;TZID=America/Chicago:20161119T220000
DTSTAMP:20260425T104446
CREATED:20161114T230729Z
LAST-MODIFIED:20161114T230729Z
UID:9108-1479585600-1479592800@www.sanantoniopeace.center
SUMMARY:Two Psycho-Magic Actions Against Violence - A ritual performance
DESCRIPTION: \nGuillermo Gomez-Peña and his close collaborators from the legendary troupe La Pocha Nostra perform on Saturday\, November 20th at Northwest Vista College \nPresented by the Northwest Vista College Drama Program in collaboration with Jump-Start Performance Co. \n$5 at the door / Reservations not required \nThis hybrid performance by La Pocha Nostra\, (Gómez-Peña\, Balitronica Gomez and Saul Garcia Lopez) is a ritual action\, participatory performance involving Xochipilli the Corn God\, a human body\, an acupuncturist and live spoken word interventions. The live actions re-imagine a new political iconography aiming to reconfigure the dreams and nightmares of our current times. The daring shamanic and psychomagic actions call for the reinvention of identity and draft a new collective territory for “artivism”. This performance is considered a ritual of social transformation. \nAs in most Pocha Nostra events\, audience members are invited by the artists to participate in this bizarre experiment and to help the performers transform the images live. La Pocha Nostra\, “the most influential performance troupe of the last 10 years” (El Pais\, newspaper) is known for its radical and interactive performances dealing with issues that equate the human body with the political body and frontally address complex issues surrounding gender & ethnic identities\, migration\, the politics of new technologies and language. \n
URL:http://www.sanantoniopeace.center/event/two-psycho-magic-actions-against-violence-a-ritual-performance/
LOCATION:3535 N. Ellison\, San Antonio\, TX\, 78251\, United States
CATEGORIES:Other
END:VEVENT
END:VCALENDAR