BEGIN:VCALENDAR
VERSION:2.0
PRODID:-//peaceCENTER - ECPv4.6.13//NONSGML v1.0//EN
CALSCALE:GREGORIAN
METHOD:PUBLISH
X-WR-CALNAME:peaceCENTER
X-ORIGINAL-URL:http://www.sanantoniopeace.center
X-WR-CALDESC:Events for peaceCENTER
BEGIN:VEVENT
DTSTART;VALUE=DATE:20141114
DTEND;VALUE=DATE:20141123
DTSTAMP:20260425T184357
CREATED:20141112T143959Z
LAST-MODIFIED:20141117T025334Z
UID:866-1415923200-1416700799@www.sanantoniopeace.center
SUMMARY:Trinity Theatre: Our Country’s Good
DESCRIPTION:\n\n\n \nFor its second production of the season\, Trinity Theatre will stage Our Country’s Good\, a play by Timberlake Wertenbaker with costume design by Stieren Guest Artist Virgil Johnson. Based on a true story\, Our Country’s Good follows the First Fleet’s military officers and convicts as the first Western settlers in Australia. Will Australia’ first settlement collapse into chaos? Do hardened criminals ever reform? Can art offer hope in a hopeless world? \nPerformances will be Nov. 14-16 and Nov. 19-22 in the Stieren Theater. Curtain times are at 8 p.m. Friday and Saturday\, 2:30 p.m. Sunday\, and 7 p.m. Wednesday and Thursday. Tickets are $10 for adults; $8 for seniors\, Trinity faculty\, and alumni; and $6 for students. \nFor best seating\, advanced reservations are strongly recommended.  Reservations can be made by calling or by visiting the Stieren Theater box office Monday through Friday between 2 p.m. and 5 p.m.  The box office is also opened one hour prior to each performance. \nAdditional dates and showtimes for the theatre production can be found here. \n\n\n\n
URL:http://www.sanantoniopeace.center/event/trinity-theatre-our-countrys-good/
LOCATION:1 Trinity Place\, San Antonio\, TX\, 78216\, United States
END:VEVENT
END:VCALENDAR