BEGIN:VCALENDAR
VERSION:2.0
PRODID:-//peaceCENTER - ECPv4.6.13//NONSGML v1.0//EN
CALSCALE:GREGORIAN
METHOD:PUBLISH
X-WR-CALNAME:peaceCENTER
X-ORIGINAL-URL:http://www.sanantoniopeace.center
X-WR-CALDESC:Events for peaceCENTER
BEGIN:VEVENT
DTSTART;TZID=America/Chicago:20150724T200000
DTEND;TZID=America/Chicago:20150802T150000
DTSTAMP:20260424T224233
CREATED:20150507T131217Z
LAST-MODIFIED:20150507T131217Z
UID:2921-1437768000-1438527600@www.sanantoniopeace.center
SUMMARY:Trigger Warning @ Theatre for Change
DESCRIPTION: \n  \nWhen a religion professor finds his class knows nothing about a recent horrific school shooting in Afghanistan\, he elaborates on the details in a frustrated rant. A student veteran becomes agitated and confronts the professor\, then an anonymous video of the speech is posted\, but it’s been edited and taken completely out of context. \nThe video goes viral and tensions mount as the professor encounters the increasingly hostile student and the administration gets involved. Desperate to keep his life on track and deny the need for a trigger warning policy\, he tries to contain the situation but only succeeds in endangering his life. \nThis new play touches on themes of academic freedom while addressing campus carry legislation. Trigger warning policies could lead to a blanket opt out for all students or else jeopardize the very safety of those it intends to protect. The cost of preserving professorial autonomy may come at a high price.\nAbout the author\nDavid Legore is a professor and department chair of dramatic media at Texas Lutheran University in Seguin. He holds a M.F.A. in Theatre\, Directing from the University of South Dakota with recent credits as a designer and actor in Seguin and San Antonio theatre productions. \nPerformances will be July 24 – August 2\, 2015 at 8 p.m. on Fridays and Saturdays and 3 p.m. on Sundays at The Classic Theatre of San Antonio at 1924 Fredericksburg Rd. \n
URL:http://www.sanantoniopeace.center/event/trigger-warning-theatre-for-change/
LOCATION:1924 Fredericksburg Rd.\, San Antonio\, TX\, United States
END:VEVENT
END:VCALENDAR