BEGIN:VCALENDAR
VERSION:2.0
PRODID:-//peaceCENTER - ECPv4.6.13//NONSGML v1.0//EN
CALSCALE:GREGORIAN
METHOD:PUBLISH
X-WR-CALNAME:peaceCENTER
X-ORIGINAL-URL:http://www.sanantoniopeace.center
X-WR-CALDESC:Events for peaceCENTER
BEGIN:VEVENT
DTSTART;TZID=America/Chicago:20161006T090000
DTEND;TZID=America/Chicago:20161006T163000
DTSTAMP:20260425T180841
CREATED:20160724T121925Z
LAST-MODIFIED:20160724T121925Z
UID:8199-1475744400-1475771400@www.sanantoniopeace.center
SUMMARY:Transforming Difficult Thinking through Mindfulness
DESCRIPTION:Diana Winston is the Director of Mindfulness Education at MARC and has been teaching mindfulness since 1993. She is the co-author (with Susan Smalley\, Ph.D.) of Fully Present: The Science\, Art\, and Practice of Mindfulness (2010). She has brought mindful awareness into schools\, hospitals\, and nonprofits\, as well as to adolescents\, seniors\, leaders\, teachers\, activists\, and health professionals in the US and Asia. She is also the author of Wide Awake: A Buddhist Guide for Teens (2003) and the CD\, “Mindful Meditations.” Diana is also a member of the teacher’s council at Spirit Rock Meditation Center in California. She spent a year as a Buddhist nun in Burma and has been practicing mindfulness meditation since 1989. \nIncludes lunch. CEUS +$30. This workshop is underwritten by Methodist Healthcare Ministries through an annual education grant. The Ecumenical Center is an approved provider of continuing education for LPC\, LMFT\, LSW\, LCSW and LMSW by the State of Texas and for continuing education specific to play therapy by the Association for Play Therapy. Please refer to ecrh.org for specific details on learning objectives and continuing education credit for this workshop. \n
URL:http://www.sanantoniopeace.center/event/transforming-difficult-thinking-through-mindfulness/
LOCATION:8310 Ewing Hassell Dr.\, San Antonio\, TX\, 78229\, United States
CATEGORIES:Other
END:VEVENT
END:VCALENDAR