BEGIN:VCALENDAR
VERSION:2.0
PRODID:-//peaceCENTER - ECPv4.6.13//NONSGML v1.0//EN
CALSCALE:GREGORIAN
METHOD:PUBLISH
X-WR-CALNAME:peaceCENTER
X-ORIGINAL-URL:http://www.sanantoniopeace.center
X-WR-CALDESC:Events for peaceCENTER
BEGIN:VEVENT
DTSTART;TZID=America/Chicago:20151209T163000
DTEND;TZID=America/Chicago:20151209T190000
DTSTAMP:20260425T145528
CREATED:20151203T232431Z
LAST-MODIFIED:20151203T232431Z
UID:5505-1449678600-1449687600@www.sanantoniopeace.center
SUMMARY:Town Hall with NEA Chairman Jane Chu
DESCRIPTION:The National Association of Latino Arts and Cultures and Culture & Creative Development\, City of San Antonio invite you to a Town Hall featuring National Endowment for the Arts Chairman Jane Chu. \nWednesday\, December 9\n4:30pm Reception\n5:00pm Town Hall \nGuadalupe Theater\, Guadalupe Cultural Arts Center\n1301 Guadalupe St.\, San Antonio\, TX 78207 \nThis event is free and open to the public! We hope to see you there! \nInquiries: info@nalac.org\nWeb: www.nalac.org \n\n www.getcreativesanantonio.com \n
URL:http://www.sanantoniopeace.center/event/town-hall-with-nea-chairman-jane-chu/
LOCATION:1301 Guadalupe St\, San Antonio\, TX\, 78207\, United States
ORGANIZER;CN="The%20National%20Association%20of%20Latino%20Arts%20and%20Cultures%20and%20Culture%20%26%20Creative%20Development%2C%20City%20of%20San%20Antonio":MAILTO:info@nalac.org
END:VEVENT
END:VCALENDAR