BEGIN:VCALENDAR
VERSION:2.0
PRODID:-//peaceCENTER - ECPv4.6.13//NONSGML v1.0//EN
CALSCALE:GREGORIAN
METHOD:PUBLISH
X-WR-CALNAME:peaceCENTER
X-ORIGINAL-URL:http://www.sanantoniopeace.center
X-WR-CALDESC:Events for peaceCENTER
BEGIN:VEVENT
DTSTART;TZID=America/Chicago:20171026T063000
DTEND;TZID=America/Chicago:20171026T210000
DTSTAMP:20260425T130943
CREATED:20171005T124603Z
LAST-MODIFIED:20171005T124603Z
UID:11274-1508999400-1509051600@www.sanantoniopeace.center
SUMMARY:Town Hall Meeting: The Opioid Crisis
DESCRIPTION: \nThis Town Hall will be moderated by: \nDr. Francine S. Romero\, Associate Dean for the College of Public Policy at UTSA \nPanelists:\nDr. Colleen Bridger\nDirector of the San Antonio Metropolitan Health District \nDr. Bryan Alsip\nChief Medical Officer of University Health System \nDr. Timothy Grigsby\nan Assistant Professor of Community Health at UTSA \nJosh Green\na Youth Peer Recovery Leader at Rise Recovery and a recovering opioids and heroin addict\n____________ \nSeating is limited: doors close at 6:45 p.m. \n \n
URL:http://www.sanantoniopeace.center/event/town-hall-meeting-the-opioid-crisis/
LOCATION:501 W. César E. Chávez Blvd.\, San Antonio\, TX\, 78205\, United States
CATEGORIES:Other
END:VEVENT
END:VCALENDAR