BEGIN:VCALENDAR
VERSION:2.0
PRODID:-//peaceCENTER - ECPv4.6.13//NONSGML v1.0//EN
CALSCALE:GREGORIAN
METHOD:PUBLISH
X-WR-CALNAME:peaceCENTER
X-ORIGINAL-URL:http://www.sanantoniopeace.center
X-WR-CALDESC:Events for peaceCENTER
BEGIN:VEVENT
DTSTART;TZID=America/Chicago:20150226T183000
DTEND;TZID=America/Chicago:20150226T203000
DTSTAMP:20260425T123721
CREATED:20150206T204937Z
LAST-MODIFIED:20150206T204937Z
UID:2339-1424975400-1424982600@www.sanantoniopeace.center
SUMMARY:Town Hall: Housing Discrimination
DESCRIPTION:Join our panel for a San Antonio town hall discussion on fair housing rights and effective nondiscrimination practices for LGBT people\, racially profiled groups and aging populations. Listen and talk with successful practitioners\, advocates and service providers as they offer in-depth analysis and information on the subject of housing discrimination. Can the current local to national housing policies combat barriers to fair housing and residential segregation? If so\, how? \nRSVP Online: http://bit.ly/1AkHYwJ \nSpeakers: \n\nDr. Howard Anderson\, Chair\, Housing Committee\, San Antonio Branch of the National Association for the Advancement of Colored People (NAACP)\n\nCelina Moreno\, Mexican American Legal Defense and Educational Fund (MALDEF) \nJessica O. Guerrero\, Fuerza Unida\, San Antonio International Women’s Day (SAIWD) \nTonya Pacetti-Perkins\, Board of Governors and Co-Chair for Diversity and Inclusion\, San Antonio Chapter of the Human Rights Campaign \nSandra Tamez\, Fair Housing Council of Greater San Antonio \nDonna Teall\, Alamo Area Council of Governments (AACOG)\, Bexar Area Agency on Aging \nReverend Erika Forbes\, of the Awaking Spiritual Community\, will moderate. \n
URL:http://www.sanantoniopeace.center/event/town-hall-housing-discrimination/
LOCATION:303 Pear Parkway\, Suite 114\, San Antonio\, TX\, 78215\, United States
ORGANIZER;CN="Robert%20Salcido%20Equality%20Texas%20San%20Antonio%20Field%20Organizer":MAILTO:robert.salcido@equalitytexas.org
END:VEVENT
END:VCALENDAR