BEGIN:VCALENDAR
VERSION:2.0
PRODID:-//peaceCENTER - ECPv4.6.13//NONSGML v1.0//EN
CALSCALE:GREGORIAN
METHOD:PUBLISH
X-WR-CALNAME:peaceCENTER
X-ORIGINAL-URL:http://www.sanantoniopeace.center
X-WR-CALDESC:Events for peaceCENTER
BEGIN:VEVENT
DTSTART;TZID=America/Chicago:20150316T100000
DTEND;TZID=America/Chicago:20150317T200000
DTSTAMP:20260425T130426
CREATED:20150309T090852Z
LAST-MODIFIED:20150314T231311Z
UID:2625-1426500000-1426622400@www.sanantoniopeace.center
SUMMARY:CARAVANA 43 Public Functions & Activities
DESCRIPTION: \nMonday\, March 16 \n10am – 11am: Press Conference\nLocation: Guadalupe Theatre (1314 Guadalupe Street\n(rainy day alternatives: Guadalupe Theatre) \n2:30 PM Mexico’s Struggling Democracy and the Ayotzinapa Case\nSponsored by Trinity University Mexico\, The Americas\, Spain Program (MAS)\, Political\nScience and Sociology Department\nLocation: Chapman Auditorium (1 Trinity Place\, San Antonio\, TX) \n5-6pm – Rally / Direct Action\nLocation: Mexican Consulate (127 Navarro St\, San Antonio\, TX) \nTuesday\, March 17 \n9am – Breakfast at Friary\nLocation: OLLU (for the students\, clergy\, faculty — limited space available) \n2pm – 4 pm – Speaking Engagement at Our Lady of the Lake\nSponsored by University Ministry\nLocation: Thiry Auditorium (411 SW 24th St.\, San Antonio\, TX) \n6pm-8pm: Town Hall Meeting\nLocation: Esperanza Center (922 San Pedro Ave\, San Antonio\, TX)\nModerator: Julio Cesar Guerrero\, National Coordinator\nPanelists: Professor Rosana Blanco-Cano from Trinity University\, Enrique Gómez\nSociology Professor from UNAM (retired) \nA group representing the parents of 43 students who went missing more than five months ago in Mexico\, triggering national outrage and accusations of systemic government corruption\, will visit San Antonio. \nTheir two-day visit  is part of a U.S. tour to condemn human rights violations in Mexico\, organizers said. A coalition of more than a dozen local community organizations is hosting the visitors and raised money to help defray caravan expenses. \nThe group includes Maria de Jesus Tlatempa Bello\, whose son Eduardo Bartolo Tlatempa is among the missing. Also joining the caravan will be Omar Vazquez Arellano\, who survived a deadly attack on the students. \nKnown as the Ayotzinapa 43\, after the name of the teacher training college they were attending in the Mexican state of Guerrero\, the students went missing Sept. 26\, 2014\, allegedly at the hands of police who turned them over to be killed by a drug gang. An attack on the students left six other classmates dead and many others wounded. \nThe students had been traveling by bus to the nearby town of Iguala to raise money for a trip to Mexico City\, where they planned to demonstrate on the anniversary of a police-led massacre of students in 1968. \nThe case has rocked Mexico to its core\, leading to widespread claims of government corruption and cooperation with organized crime and drug cartels. Critics say the government has been inept in its investigation. \nLast November\, federal authorities arrested Iguala’s mayor and his wife for allegedly ordering the attack. They said the couple ran the city in tandem with a local drug cartel. \nStill\, there’s been no sign of the students and many presume they were murdered. \nThe caravan stopping in San Antonio is one of three that will tour the country. It is also scheduled to also make stops in Austin\, Dallas and nine other cities in the central United States. \n“The invitation of people of the United States to share our struggle is very timely since our plan is to travel to Central and South America and to Europe from where we have already received more invitations\,” Felipe de la Cruz Sandoval\, a representative of the Ayotzinapa group said in a statement. “It is important that both citizens and government leaders of other countries are aware of the injustices in Mexico\, and the international community see what is the globalization of repression.” \nParents of the missing students said they plan to take their case to Amnesty International\, the United Nations and the Inter-American Commission on Human Rights. \nForeign Policy magazine reported this week that a U.N. report found torture is common in Mexican police stations and prisons and that authorities act with impunity. Another U.N. report last month criticized the country’s handling of what it called “enforced disappearances\,” referencing the missing Ayotzinapa students\, according to the magazine report. \n  \n
URL:http://www.sanantoniopeace.center/event/todos-somos-ayotzinapa-parents-of-the-disappeared-trinity-u/
LOCATION:1 Trinity Place\, San Antonio\, TX\, United States
END:VEVENT
END:VCALENDAR