BEGIN:VCALENDAR
VERSION:2.0
PRODID:-//peaceCENTER - ECPv4.6.13//NONSGML v1.0//EN
CALSCALE:GREGORIAN
METHOD:PUBLISH
X-WR-CALNAME:peaceCENTER
X-ORIGINAL-URL:http://www.sanantoniopeace.center
X-WR-CALDESC:Events for peaceCENTER
BEGIN:VEVENT
DTSTART;TZID=America/Chicago:20180120T210000
DTEND;TZID=America/Chicago:20180120T230000
DTSTAMP:20260425T000947
CREATED:20180118T020853Z
LAST-MODIFIED:20180118T020853Z
UID:11957-1516482000-1516489200@www.sanantoniopeace.center
SUMMARY:Theater: Where Did We Sit on the Bus?
DESCRIPTION: \nBy Brian Quijada\nDirected by Chay Yew \nWhere Did We Sit on the Bus? is an electric one-man show pulsing with Latin rhythms\, rap\, hip-hop\, spoken word\, and live looping. During a third grade lesson on the Civil Rights movement and Rosa Parks\, a Latino boy raises his hand to ask\, “Where did we sit on the bus?” and his teacher can’t answer the question. This thrilling autobiographical production examines what it means to be Latino through the eyes of a child\, turned teenager\, turned adult. \nBrian Quijada\, a native Chicagoan\, and the son of Salvadorean parents\, tries to figure out where he fits in. He grew up in a contrasting melting pot watching Michael Jackson’s moves on TV while the smell of pupusas filled the air\, and at school\, he mingled with friends from different cultural and racial backgrounds. With nonstop laughter\, “Where Did We Sit on the Bus?” attempts to answer the question\, “Where do I fit in as a Latino millennial growing up in America? \nTickets and show info: https://goo.gl/VuXuUM \nGeneral tickets- $25\nStudent tickets- $20 \n
URL:http://www.sanantoniopeace.center/event/theater-where-did-we-sit-on-the-bus/
LOCATION:800 W. Ashby\, San Antonio\, TX\, 78212\, United States
CATEGORIES:DreamWeek,Other
END:VEVENT
END:VCALENDAR