BEGIN:VCALENDAR
VERSION:2.0
PRODID:-//peaceCENTER - ECPv4.6.13//NONSGML v1.0//EN
CALSCALE:GREGORIAN
METHOD:PUBLISH
X-WR-CALNAME:peaceCENTER
X-ORIGINAL-URL:http://www.sanantoniopeace.center
X-WR-CALDESC:Events for peaceCENTER
BEGIN:VEVENT
DTSTART;TZID=America/Chicago:20170506T190000
DTEND;TZID=America/Chicago:20170506T210000
DTSTAMP:20260425T125531
CREATED:20170503T222630Z
LAST-MODIFIED:20170503T222630Z
UID:10294-1494097200-1494104400@www.sanantoniopeace.center
SUMMARY:Theater: "To Be Honest: Voices on Islam in the 2016 Presidential Election"
DESCRIPTION:\nAs  part of a research project on how citizens of San Antonio talked about Islam throughout the 2016 Presidential Election\, Trinity faculty Sarah Kaufman\, Habiba Noor\, and Bill Christ  interviewed people representing the religious and political diversity of the city and composed a script that presents their incredibly diverse research sample.  \nMore about their project! \n
URL:http://www.sanantoniopeace.center/event/theater-to-be-honest-voices-on-islam-in-the-2016-presidential-election/
LOCATION:One Trinity Place\, San Antonio\, TX\, 78212\, United States
CATEGORIES:Other
END:VEVENT
END:VCALENDAR