BEGIN:VCALENDAR
VERSION:2.0
PRODID:-//peaceCENTER - ECPv4.6.13//NONSGML v1.0//EN
CALSCALE:GREGORIAN
METHOD:PUBLISH
X-WR-CALNAME:peaceCENTER
X-ORIGINAL-URL:http://www.sanantoniopeace.center
X-WR-CALDESC:Events for peaceCENTER
BEGIN:VEVENT
DTSTART;TZID=America/Chicago:20161111T200000
DTEND;TZID=America/Chicago:20161118T220000
DTSTAMP:20260425T141859
CREATED:20161110T152256Z
LAST-MODIFIED:20161110T152256Z
UID:9038-1478894400-1479506400@www.sanantoniopeace.center
SUMMARY:Theater: Rosmersholm
DESCRIPTION:The UIW Theatre invites you to Rosmersholm\, By Henrik Ibsen\, a haunting tale of the struggle between past and future\, tradition and progress\, responsibility and freedom. At the center of this struggle is the Pastor John Rosmer and his iconoclastic companion Rebecca West. \nRosmer’s family has long been part of the social elite; members of a conservative clan that helps those less fortunate. But recent events have shaken that family to its core. Rosmer’s wife has committed suicide\, and Rosmer has begun to question his faith and the hold his family’s traditions have had on him. Rebecca West\, his deceased wife’s dearest friend\, is attracted to Rosmer. Will Rosmer and Rebecca break free from the past to build a better tomorrow? \nMark Stringham directs Rosmersholm with scenery designed by Christopher McCollum\, costumes designed by Margaret Mitchell and lighting designed by Justin Bennett. \nAdults: $12\nSeniors: $9\nNon-UIW Students: $8\nGroups (10 or more): $7\nUIW students\, faculty and staff may attend free of charge by presenting their valid ID \n
URL:http://www.sanantoniopeace.center/event/theater-rosmersholm/
LOCATION:4301 Broadway\, San Antonio\, TX\, 78209\, United States
CATEGORIES:Other
END:VEVENT
END:VCALENDAR