BEGIN:VCALENDAR
VERSION:2.0
PRODID:-//peaceCENTER - ECPv4.6.13//NONSGML v1.0//EN
CALSCALE:GREGORIAN
METHOD:PUBLISH
X-WR-CALNAME:peaceCENTER
X-ORIGINAL-URL:http://www.sanantoniopeace.center
X-WR-CALDESC:Events for peaceCENTER
BEGIN:VEVENT
DTSTART;TZID=America/Chicago:20150114T190000
DTEND;TZID=America/Chicago:20150114T210000
DTSTAMP:20260425T152320
CREATED:20150103T021623Z
LAST-MODIFIED:20150103T021623Z
UID:1894-1421262000-1421269200@www.sanantoniopeace.center
SUMMARY:The World Peace Diet: Will Tuttle\, Ph.D. lecture @ Vegetarian Society
DESCRIPTION:Being Healthy and Saving The Planet\nAuthor of the #1 Amazon best-seller The World Peace Diet\, Dr. Will Tuttle delivers an inspiring talk about the food we choose\, where it comes from\, and how it affects us physically\, culturally\, and spiritually. You will learn how to make positive changes that promote wellness\, encourage wisdom\, and minimize our eco-footprints on the Earth. \nWednesday\, January 14\, 2015 at 7:00 p.m. First Unitarian Universalist Church 7150 Interstate 10 Frontage Road (W) San Antonio\, TX\, 78213 Sponsored by The San Antonio Vegetarian Society.\nCatering by Green Vegetarian Cuisine. The vegan menu is Beefless N Broccoli\, Chia Jasmine Rice\, Cabbage Slaw and Cookies. Price – $11.00 for SAVS members\, $12.00 for non -members. Please RSVP at savstx@gmail.com by Monday\, January 12th. Please call (210) 979 2700 for info. \n“I’ve never seen an audience so attentive and enraptured as when Will Tuttle speaks.”\nTench Phillips\, president\, Art Repertory Films\, Norfolk\, VA\n\n“Use The World Peace Diet as a guide to empower yourselves and others in making dietary choices that are powerful beyond what you can possibly imagine.”\nJulia Butterfly Hill\, environmental activist and noted author \n“Dr. Will Tuttle is an inspirational force. The energy and expressions that I witnessed in the room around me were monumental.”\nJerrilyn Halbert\, KPFT Radio\, Houston \n“The World Peace Diet is one of the most provocative books I’ve ever read. This is a deep book\, aglow with insights that penetrate and expose the complacency of a culture that has strayed painfully far from compassion.”\nJohn Robbins\, noted author \nDr. Will Tuttle\, visionary educator and inspirational speaker and musician\, has lectured and performed widely throughout North America and worldwide. His doctorate degree from the University of California\, Berkeley\, focused on educating intuition\, and he has taught college courses in creativity\, humanities\, mythology\, religion\, and philosophy. A recipient of the Courage of Conscience Award\, he is a Dharma Master in the Zen tradition. Devoted to cultural healing and awakening\, he has created 7 much-loved CD albums of original piano music\, and also his international best-seller\, The World Peace Diet\, published in over a dozen languages. He is noted for clear and inspiring presentations that often include original piano music as well as evocative animal paintings by his spouse\, Madeleine\, a visionary artist from Switzerland. See www.worldpeacediet.com for more details. \n
URL:http://www.sanantoniopeace.center/event/the-world-peace-diet-will-tuttle-ph-d-lecture-vegetarian-society/
LOCATION:7150 Interstate 10\, San Antonio\, TX\, 78213\, United States
ORGANIZER;CN="San%20Antonio%20Vegetarian%20Society":MAILTO: savstx@gmail.com
END:VEVENT
END:VCALENDAR