BEGIN:VCALENDAR
VERSION:2.0
PRODID:-//peaceCENTER - ECPv4.6.13//NONSGML v1.0//EN
CALSCALE:GREGORIAN
METHOD:PUBLISH
X-WR-CALNAME:peaceCENTER
X-ORIGINAL-URL:http://www.sanantoniopeace.center
X-WR-CALDESC:Events for peaceCENTER
BEGIN:VEVENT
DTSTART;TZID=America/Chicago:20161211T180000
DTEND;TZID=America/Chicago:20161211T193000
DTSTAMP:20260425T123739
CREATED:20161201T213242Z
LAST-MODIFIED:20161201T213242Z
UID:9222-1481479200-1481484600@www.sanantoniopeace.center
SUMMARY:The Virgen Project to Benefit Standing Rock
DESCRIPTION: \nJoin twelve female writers and performers as they tell stories of love\, politics\, hope\, and Virgens. \n$10 at the door / no reservations required.\nCASH ONLY\, PLEASE.\n100% of door will be donated to the school at Standing Rock. \nWriters and Performers include: \nMarisela Barrera\nYvette Benavides\nAnna De Luna\nSarah Fisch\nCamille Garcia\nRocio Guenther\nMaria Ibarra\nMellissa Marlowe\nBridget Martinez\nAmalia Ortiz\nBarbara Renaud\nDr. Aimee Villarreal \nThe Virgen Project is part of Marisela Barrera’s twelve-year performative promesa to La Virgen de Guadalupe. She is in year three. \nYour door donations will be directed here: \nNatalie Diaz and the Oceti Sakowin School in the North Dakota Oceti Sakowin Camp are raising funds. At the camp’s school\, children are receiving a rich education\, not just through conventional classes\, but also by witnessing first-hand the struggle against the pipeline. The school needs to buy a yurt to keep the children and teachers warm during winter. The yurt will cost $5\,000. Every one of your door dollars will be donated here.\nI hope you plan to attend and I hope you spread the word. \n
URL:http://www.sanantoniopeace.center/event/the-virgen-project-to-benefit-standing-rock/
LOCATION:723 S. Brazos\, San Antonio\, TX\, 78207\, United States
CATEGORIES:Other
END:VEVENT
END:VCALENDAR