BEGIN:VCALENDAR
VERSION:2.0
PRODID:-//peaceCENTER - ECPv4.6.13//NONSGML v1.0//EN
CALSCALE:GREGORIAN
METHOD:PUBLISH
X-WR-CALNAME:peaceCENTER
X-ORIGINAL-URL:http://www.sanantoniopeace.center
X-WR-CALDESC:Events for peaceCENTER
BEGIN:VEVENT
DTSTART;TZID=America/Chicago:20141030T193000
DTEND;TZID=America/Chicago:20141109T143000
DTSTAMP:20260425T202118
CREATED:20141029T135303Z
LAST-MODIFIED:20141107T132727Z
UID:663-1414697400-1415543400@www.sanantoniopeace.center
SUMMARY:The Trojan Women by Euripides
DESCRIPTION:Euripides — Drama from ancient Greece. Troy has fallen and the city burns. As they look up the remains of the kingdom\, the surviving women struggle with the aftermath of war.  \nExpress-News drama critic Deborah Martin calls it “absolutely shattering” and says\, “Christy Huffman-Coop heads the gifted cast\, delivering a masterful performance as Hecuba\, the one-time queen now facing a life of servitude and eternal grief over the deaths of her husband\, sons and grandson\, as well as the destruction of her beloved city. The show is intense\, thought-provoking and well worth seeing.” \n
URL:http://www.sanantoniopeace.center/event/the-trojan-women/
END:VEVENT
END:VCALENDAR