BEGIN:VCALENDAR
VERSION:2.0
PRODID:-//peaceCENTER - ECPv4.6.13//NONSGML v1.0//EN
CALSCALE:GREGORIAN
METHOD:PUBLISH
X-WR-CALNAME:peaceCENTER
X-ORIGINAL-URL:http://www.sanantoniopeace.center
X-WR-CALDESC:Events for peaceCENTER
BEGIN:VEVENT
DTSTART;TZID=America/Chicago:20150407T190000
DTEND;TZID=America/Chicago:20150407T210000
DTSTAMP:20260425T102909
CREATED:20150318T200248Z
LAST-MODIFIED:20150318T200248Z
UID:2689-1428433200-1428440400@www.sanantoniopeace.center
SUMMARY:The SoL Center Presents: Thriving Spiritually Through Social Justice Work with Rev. Kelly S. Allen
DESCRIPTION:Description: Those participating in social justice/action work face discouragement\, compassion fatigue and frustration. Learn about spiritual resources to cultivate resilience and hope while responding to and speaking and acting for justice and peace. \n Instructor: The Rev. Kelly S. Allen\, pastor at University Presbyterian Church\, holds a Master of Divinity with honors from Columbia Theological Seminary and Masters of Arts in politics and religion from the University of Birmingham\, England. Allen is co-moderator of the Interfaith Welcome Coalition in San Antonio. \n The SoL Center at University Presbyterian Church is an interfaith education center for adults who seek to explore the full dimensions of religious faith in the 21st century. For more information on SoL Center classes visit www.upcsa.org/sol_center. \nWhen:           Three Tuesdays\, April 7 & 14\, 7-9 p.m. \nWhere:          SoL Center at University Presbyterian Church\, 300 Bushnell\, SA TX 78212 \nTuition:         $25. Enrollment 12 min./60 max. \nCall: 210-732-9927 or upcsa@upcsa.org. \n
URL:http://www.sanantoniopeace.center/event/the-sol-center-presents-thriving-spiritually-through-social-justice-work-with-rev-kelly-s-allen/
LOCATION:300 Bushnell\, San Antonio\, TX\, 78212\, United States
ORGANIZER;CN="Lucy%20Burton%2C%20SoL%20Center":MAILTO:solcenter@upcsa.org
END:VEVENT
END:VCALENDAR