BEGIN:VCALENDAR
VERSION:2.0
PRODID:-//peaceCENTER - ECPv4.6.13//NONSGML v1.0//EN
CALSCALE:GREGORIAN
METHOD:PUBLISH
X-WR-CALNAME:peaceCENTER
X-ORIGINAL-URL:http://www.sanantoniopeace.center
X-WR-CALDESC:Events for peaceCENTER
BEGIN:VEVENT
DTSTART;TZID=America/Chicago:20171011T183000
DTEND;TZID=America/Chicago:20171011T193000
DTSTAMP:20260425T112955
CREATED:20171011T083607Z
LAST-MODIFIED:20171011T083607Z
UID:11343-1507746600-1507750200@www.sanantoniopeace.center
SUMMARY:The Sexual Politics of Meat with author Carol Adams
DESCRIPTION: \n
URL:http://www.sanantoniopeace.center/event/the-sexual-politics-of-meat-with-author-carol-adams/
CATEGORIES:Other
END:VEVENT
END:VCALENDAR