BEGIN:VCALENDAR
VERSION:2.0
PRODID:-//peaceCENTER - ECPv4.6.13//NONSGML v1.0//EN
CALSCALE:GREGORIAN
METHOD:PUBLISH
X-WR-CALNAME:peaceCENTER
X-ORIGINAL-URL:http://www.sanantoniopeace.center
X-WR-CALDESC:Events for peaceCENTER
BEGIN:VEVENT
DTSTART;TZID=America/Chicago:20160901T180000
DTEND;TZID=America/Chicago:20160901T200000
DTSTAMP:20260425T182143
CREATED:20160805T010824Z
LAST-MODIFIED:20160805T011428Z
UID:8292-1472752800-1472760000@www.sanantoniopeace.center
SUMMARY:The Sacred Art of Altars: One People\, Many Paths Opening
DESCRIPTION:13th Annual Exhibit & Silent Auction\nSeptember 1 – September 29\, 2016 with silent auction bidding open all month\nExhibit viewing is free during theater hours\nat Santikos Bijou Cinema Bistro Gallery located in Wonderland of the Americas Mall \nSEPTEMBER 1\, THURSDAY\, 6:00 – 8:00PM\nOPENING RECEPTION & MEET THE ARTISTS : Sacred Art of Altars Exhibit & Silent Auction at the Bijou Cinema Art Gallery\, Wonderland of the Americas Mall. Be the first to see this amazing collection of 58 artist made altars and visit with the artists individually\, finding out more about their personal artistic interpretations. No charge for this or for visiting the gallery to view the exhibit throughout the month during regular theater hours. \nSEPTEMBER 29\, THURSDAY\, 6:00 – 9:30PM\nCLOSING RECEPTION: Sacred Art of Altars Exhibit & Silent Auction featuring light hors d’oeuvres\, final bidding\, live music by Edward Trevi\, and the official closing of the month-long silent auction\, followed by a special screening of “The Hitchhikers Guide to the Galaxy” – the hilarious\, thought-provoking sci-fi comedy classic. Bijou Cinema Art Gallery\, Wonderland of the Americas Mall. Tickets are available online or Sundays for $15 in advance and $20 at the door. \n
URL:http://www.sanantoniopeace.center/event/the-sacred-art-of-altars-one-people-many-paths-opening/
LOCATION:4522 Fredericksburg Rd (Wonderland Mall)\, San Antonio\, TX\, 78201\, United States
CATEGORIES:Other
END:VEVENT
END:VCALENDAR