BEGIN:VCALENDAR
VERSION:2.0
PRODID:-//peaceCENTER - ECPv4.6.13//NONSGML v1.0//EN
CALSCALE:GREGORIAN
METHOD:PUBLISH
X-WR-CALNAME:peaceCENTER
X-ORIGINAL-URL:http://www.sanantoniopeace.center
X-WR-CALDESC:Events for peaceCENTER
BEGIN:VEVENT
DTSTART;TZID=America/Chicago:20161115T190000
DTEND;TZID=America/Chicago:20161116T140000
DTSTAMP:20260425T114943
CREATED:20160819T115450Z
LAST-MODIFIED:20160819T115450Z
UID:8460-1479236400-1479304800@www.sanantoniopeace.center
SUMMARY:The Role of  Art in the Advanced Care Planning Conversation with Artist David Moss
DESCRIPTION: \n  \nThe workshop on Wednesday is limited to 30 people\, so please pre-register. \n
URL:http://www.sanantoniopeace.center/event/the-role-of-art-in-the-advanced-care-planning-conversation-with-artist-david-moss/
LOCATION:12500 N.W. Military Drive\, San Antonio\, TX\, 78231\, United States
CATEGORIES:Other
END:VEVENT
END:VCALENDAR