BEGIN:VCALENDAR
VERSION:2.0
PRODID:-//peaceCENTER - ECPv4.6.13//NONSGML v1.0//EN
CALSCALE:GREGORIAN
METHOD:PUBLISH
X-WR-CALNAME:peaceCENTER
X-ORIGINAL-URL:http://www.sanantoniopeace.center
X-WR-CALDESC:Events for peaceCENTER
BEGIN:VEVENT
DTSTART;TZID=America/Chicago:20161115T180000
DTEND;TZID=America/Chicago:20161115T193000
DTSTAMP:20260425T131612
CREATED:20161110T160649Z
LAST-MODIFIED:20161110T160649Z
UID:9054-1479232800-1479238200@www.sanantoniopeace.center
SUMMARY:The Politics of Mexican Immigration in the Federal Criminal Justice System
DESCRIPTION:San Antonio College Mexican American Studies (MAS) will host federal public defenders\, Molly Roth and Alfredo Villarreal (SAC Alum). This discussion will highlight immigration statistics\, as well as anecdotes and opinions on how the criminal justice system’s treatment of immigrants has changed post-9/11. \n
URL:http://www.sanantoniopeace.center/event/the-politics-of-mexican-immigration-in-the-federal-criminal-justice-system/
LOCATION:1300 San Pedro\, San Antonio\, TX\, 78209\, United States
CATEGORIES:Other
ORGANIZER;CN="San%20Antonio%20College%20Mexican%20American%20Studies%20%28MAS%29":MAILTO:ahernandez764@alamo.edu
END:VEVENT
END:VCALENDAR