BEGIN:VCALENDAR
VERSION:2.0
PRODID:-//peaceCENTER - ECPv4.6.13//NONSGML v1.0//EN
CALSCALE:GREGORIAN
METHOD:PUBLISH
X-WR-CALNAME:peaceCENTER
X-ORIGINAL-URL:http://www.sanantoniopeace.center
X-WR-CALDESC:Events for peaceCENTER
BEGIN:VEVENT
DTSTART;TZID=America/Chicago:20161103T120000
DTEND;TZID=America/Chicago:20161103T130000
DTSTAMP:20260425T115047
CREATED:20161019T121928Z
LAST-MODIFIED:20161019T121928Z
UID:8892-1478174400-1478178000@www.sanantoniopeace.center
SUMMARY:The Political Violence of Global Capital:  Dispossession and Repression in the Global South
DESCRIPTION:Jasmin Hristov\, a Canadian scholar will present a lecture on paramilitarism. Jasmin Hristov is an author of the books Paramilitarism and Neoliberalism: Violent Systems of Capital Accumulation in Colombia and Beyond (Pluto Press 2014) and Blood and Capital: the Paramilitarization of Colombia (Ohio University Press 2009). Her work has also been featured in: Journal of Peasant Studies; Latin American Perspectives; Journal of Peacebuilding and Development; Labour\, Capital and Society; and Social Justice. \nParamilitarism a hybrid and complex type of politically-motivated violence involving non-state actors and state agents. Paramilitary groups have played an increasingly important role in contemporary armed conflicts as well as violent social environments in different parts of the world and have engaged in some of the most horrifying human rights violations. The proliferation of paramilitarism has been crucial to contemporary processes of capital and class formation\, and particularly in land-grabbing\, extractive industries operations\, and the repression of struggles against privatization and austerity reforms. Nevertheless\, this phenomenon remains largely under-investigated and poorly understood. This presentation will explain paramilitary violence as a tool of economic globalization and will offer current examples of paramilitary groups in different parts of Latin America. \nDownload flyer here \n
URL:http://www.sanantoniopeace.center/event/the-political-violence-of-global-capital-dispossession-and-repression-in-the-global-south/
LOCATION:501 W. César E. Chávez Blvd.\, San Antonio\, TX\, 78205\, United States
CATEGORIES:Other
END:VEVENT
END:VCALENDAR