BEGIN:VCALENDAR
VERSION:2.0
PRODID:-//peaceCENTER - ECPv4.6.13//NONSGML v1.0//EN
CALSCALE:GREGORIAN
METHOD:PUBLISH
X-WR-CALNAME:peaceCENTER
X-ORIGINAL-URL:http://www.sanantoniopeace.center
X-WR-CALDESC:Events for peaceCENTER
BEGIN:VEVENT
DTSTART;TZID=America/Chicago:20150115T163000
DTEND;TZID=America/Chicago:20150115T203000
DTSTAMP:20260425T160639
CREATED:20141227T005959Z
LAST-MODIFIED:20141227T011845Z
UID:1856-1421339400-1421353800@www.sanantoniopeace.center
SUMMARY:The Police\, our Community\, and the Future
DESCRIPTION:The purpose of this forum is for law enforcement officials community leaders\, elected officials\, gang leaders and their members\, Eastside Neighborhood Association leaders to sit in dialogue and breakout session groups to address issue: Racial profiling\, police abuse\, e and police internal affairs procedures\, excessive force\, deadly force. The breakout session groups will report back with three (3) recommendations each for vote by the entire forum participants. The written recommendations will be presented to all parties. \n
URL:http://www.sanantoniopeace.center/event/the-police-our-community-and-the-future/
LOCATION:3310 E Commerce St\, San Antonio\, TX\, 78220\, United States
END:VEVENT
END:VCALENDAR