BEGIN:VCALENDAR
VERSION:2.0
PRODID:-//peaceCENTER - ECPv4.6.13//NONSGML v1.0//EN
CALSCALE:GREGORIAN
METHOD:PUBLISH
X-WR-CALNAME:peaceCENTER
X-ORIGINAL-URL:http://www.sanantoniopeace.center
X-WR-CALDESC:Events for peaceCENTER
BEGIN:VEVENT
DTSTART;TZID=America/Chicago:20161004T090000
DTEND;TZID=America/Chicago:20161004T110000
DTSTAMP:20260425T182124
CREATED:20160914T004522Z
LAST-MODIFIED:20160914T004522Z
UID:8673-1475571600-1475578800@www.sanantoniopeace.center
SUMMARY:The Nonprofit Council 2016 Social Media/Advocacy Workshop
DESCRIPTION:REGISTER \nAlliance for Justice will deliver a special training to teach nonprofits about the rules of nonprofit advocacy in the digital age. Nonprofit organizations can bring the concerns of their communities to policy makers and elected officials and help inform and encourage voters safely. But in order to do so\, they should understand the rules associated with online communications and social media advocacy. \nThis workshop will address the legal rules associated with online nonprofit advocacy so that groups can boldly speak out about the causes they care about. \nworkshop facilitator\nNatalie Ossenfort – Director\, Alliance for Justice \n
URL:http://www.sanantoniopeace.center/event/the-nonprofit-council-2016-social-mediaadvocacy-workshop/
LOCATION:285 Oblate Drive\, San Antonio\, 78216\, United States
CATEGORIES:Other
END:VEVENT
END:VCALENDAR