BEGIN:VCALENDAR
VERSION:2.0
PRODID:-//peaceCENTER - ECPv4.6.13//NONSGML v1.0//EN
CALSCALE:GREGORIAN
METHOD:PUBLISH
X-WR-CALNAME:peaceCENTER
X-ORIGINAL-URL:http://www.sanantoniopeace.center
X-WR-CALDESC:Events for peaceCENTER
BEGIN:VEVENT
DTSTART;TZID=America/Chicago:20160407T190000
DTEND;TZID=America/Chicago:20160407T210000
DTSTAMP:20260425T154555
CREATED:20151115T130008Z
LAST-MODIFIED:20151115T130111Z
UID:5110-1460055600-1460062800@www.sanantoniopeace.center
SUMMARY:The Nobel Economist Lecture: Amartya Sen
DESCRIPTION:Amartya Sen is the 1998 recipient of the Nobel Memorial Prize for Economics Sciences for his work in welfare economics. Sen currently serves as the Thomas W. Lamont University Professor and Professor of Economics and Philosophy at Harvard University. Sen teaches courses on social choice theory\, health and social justice\, reasoning via models\, and the foundations of justice\, in addition to others. He has edited and authored several books\, including Peace and Democratic Society\, The Idea of Justice\, and Development as Freedom. In 1999\, Sen earned the Bharat Ratna\, the highest civilian award in India. He was also awarded the inaugural Charleston-EFG John Maynard Keynes Prize at a 2015 reception at the Royal Academy of Arts in London. Sen’s presentation is free and open to the public. Tickets and reservations are not required. \n
URL:http://www.sanantoniopeace.center/event/the-nobel-economist-lecture-amartya-sen/
LOCATION:One Trinity Place\, San Antonio\, TX\, United States
END:VEVENT
END:VCALENDAR