BEGIN:VCALENDAR
VERSION:2.0
PRODID:-//peaceCENTER - ECPv4.6.13//NONSGML v1.0//EN
CALSCALE:GREGORIAN
METHOD:PUBLISH
X-WR-CALNAME:peaceCENTER
X-ORIGINAL-URL:http://www.sanantoniopeace.center
X-WR-CALDESC:Events for peaceCENTER
BEGIN:VEVENT
DTSTART;TZID=America/Chicago:20170406T190000
DTEND;TZID=America/Chicago:20170406T210000
DTSTAMP:20260425T105931
CREATED:20170329T131515Z
LAST-MODIFIED:20170329T131515Z
UID:10075-1491505200-1491512400@www.sanantoniopeace.center
SUMMARY:The New Physics and the Old Metaphysics
DESCRIPTION: \nThe concept of God as Creator is not tied to any particular cosmology\, but has endured even as our scientific cosmologies have radically changed. The traditional Christian understanding of God is not merely as some force within nature\, operating alongside gravity or electromagnetism at ‘time zero’ to start a universe. Rather\, God is supernatural\, outside nature\, and responsible for the very dimensions of space and time and the laws of science that allow matter to exist. This talk will explore the outline and history of our current cosmological thinking\, and how it both challenges and expands our traditional metaphysics. \n\nBrother Guy Consolmagno\, SJ \nBrother Guy Consolmagno SJ is the Director of the Vatican Observatory and President of the Vatican Observatory Foundation. A native of Detroit\, Michigan\, he earned undergraduate and masters’ degrees from MIT\, and a Ph. D. in Planetary Science from the University of Arizona; he was a postdoctoral research fellow at Harvard and MIT\, served in the US Peace Corps (Kenya)\, and taught university physics at Lafayette College before entering the Jesuits in 1989. \nAt the Vatican Observatory since 1993\, his research explores connections between meteorites\, asteroids\, and the evolution of small solar system bodies\, observing Kuiper Belt comets with the Vatican’s 1.8 meter telescope in Arizona\, and applying his measure of meteorite physical properties to understanding asteroid origins and structure. Along with more than 200 scientific publications\, he is the author of a number of popular books including Turn Left at Orion (with Dan Davis)\, and Would You Baptize an Extraterrestial? (with Paul Mueller). He also has hosted science programs for BBC Radio 4\, been interviewed in numerous documentary films\, appeared on The Colbert Report\, and for more than ten years he has written a monthly science column for the British Catholic magazine\, The Tablet. \nDr. Consolmagno’s work has taken him to every continent on Earth; for example\, in 1996 he spent six weeks collecting meteorites with a NASA team on the blue ice regions of East Antarctica. He has served on the governing boards of the Meteoritical Society; the American Astronomical Society Division for Planetary Sciences (of which he was chair in 2006-2007); and IAU Commission 16 (Planets and Satellites). In 2000\, the small bodies nomenclature committee of the IAU named an asteroid\, 4597 Consolmagno\, in recognition of his work. In 2014 he received the Carl Sagan Medal from the American Astronomical Society Division for Planetary Sciences for excellence in public communication in planetary sciences. \nFor information \, call Brenda at (210) 341-1366 EXT 212 \n
URL:http://www.sanantoniopeace.center/event/the-new-physics-and-the-old-metaphysics/
LOCATION:285 Oblate Drive\, San Antonio\, 78216\, United States
CATEGORIES:Other
END:VEVENT
END:VCALENDAR