BEGIN:VCALENDAR
VERSION:2.0
PRODID:-//peaceCENTER - ECPv4.6.13//NONSGML v1.0//EN
CALSCALE:GREGORIAN
METHOD:PUBLISH
X-WR-CALNAME:peaceCENTER
X-ORIGINAL-URL:http://www.sanantoniopeace.center
X-WR-CALDESC:Events for peaceCENTER
BEGIN:VEVENT
DTSTART;TZID=America/Chicago:20160329T183000
DTEND;TZID=America/Chicago:20160329T193000
DTSTAMP:20260425T143435
CREATED:20160216T031012Z
LAST-MODIFIED:20160216T031121Z
UID:6445-1459276200-1459279800@www.sanantoniopeace.center
SUMMARY:The Neuroscience of the Unconscious @ Mind Science
DESCRIPTION:How do conscious impulses\, thoughts\, or desires become unconscious\, and how do unconscious impulses become conscious? How can decisions and behaviors be influenced by stimuli processed outside of awareness\, and how are people able to override their unconscious drives by force of will? \nDr. Berlin conducts research to better understand the neural basis of impulsivity\, compulsivity\, and emotion with the goal of more targeted treatment. She employs neuroimaging and neuropsychological and psychopharmacological testing of brain lesion and compulsive\, impulsive\, and personality disorder patients.  She is also interested in the neural basis of consciousness and dynamic unconscious processes. Dr. Berlin has conducted clinical research at hospitals in both the US and UK including Bellevue Hospital and the Institute of Psychiatry in London. \n$20 – General Admission\n$10 – Senior/Military w/ID\n$5 – Student w/ID\nFREE – Mind Science Foundation Members\n\n\n5:30  Member Reception\n6:30  Lecture\n7:15  Q&A \nCEU’s Available: Continuing education hours provided by MSF are designed to meet the CE requirements for psychologists\, licensed psychological associates\, licensed professional counselors\, licensed marriage and family therapists\, social workers\, teachers\, educators\, and school counselors. Texas State Board of Examiners of Professional Counselors Provider No. 935. Texas State Board of Social Work Examiners Provider No. CS-3834. Texas Education Agency Provider No. 501136.\n\n
URL:http://www.sanantoniopeace.center/event/the-neuroscience-of-the-unconscious-mind-science/
LOCATION:306 Pearl Parkway\, San Antonio\, TX\, 78215\, United States
CATEGORIES:Other
END:VEVENT
END:VCALENDAR