BEGIN:VCALENDAR
VERSION:2.0
PRODID:-//peaceCENTER - ECPv4.6.13//NONSGML v1.0//EN
CALSCALE:GREGORIAN
METHOD:PUBLISH
X-WR-CALNAME:peaceCENTER
X-ORIGINAL-URL:http://www.sanantoniopeace.center
X-WR-CALDESC:Events for peaceCENTER
BEGIN:VEVENT
DTSTART;TZID=America/Chicago:20150213T200000
DTEND;TZID=America/Chicago:20150213T223000
DTSTAMP:20260425T134426
CREATED:20150208T162519Z
LAST-MODIFIED:20150208T162519Z
UID:2344-1423857600-1423866600@www.sanantoniopeace.center
SUMMARY:The Merchant of Venice @ Classic Theater
DESCRIPTION: \nFebruary 13 through March 1st: William Shakespeare’s play about justice & mercy: \nPORTIA: The quality of mercy is not strain’d\,\nIt droppeth as the gentle rain from heaven\nUpon the place beneath: it is twice blest;\nIt blesseth him that gives and him that takes:\n‘Tis mightiest in the mightiest: it becomes\nThe throned monarch better than his crown;\nHis sceptre shows the force of temporal power\,\nThe attribute to awe and majesty\,\nWherein doth sit the dread and fear of kings;\nBut mercy is above this sceptred sway;\nIt is enthroned in the hearts of kings\,\nIt is an attribute to God himself;\nAnd earthly power doth then show likest God’s\nWhen mercy seasons justice. Therefore\, Jew\,\nThough justice be thy plea\, consider this\,\nThat\, in the course of justice\, none of us\nShould see salvation: we do pray for mercy;\nAnd that same prayer doth teach us all to render\nThe deeds of mercy. I have spoke thus much\nTo mitigate the justice of thy plea;\nWhich if thou follow\, this strict court of Venice\nMust needs give sentence ‘gainst the merchant there. \n\n
URL:http://www.sanantoniopeace.center/event/the-merchant-of-venice-classic-theater/
LOCATION:1924 Fredericksburg Rd.\, San Antonio\, TX\, 78201\, United States
END:VEVENT
END:VCALENDAR